BEGIN:VCALENDAR
VERSION:2.0
PRODID:-//REEL XV - ECPv6.15.13.1//NONSGML v1.0//EN
CALSCALE:GREGORIAN
METHOD:PUBLISH
X-WR-CALNAME:REEL XV
X-ORIGINAL-URL:https://www.reelxv.com
X-WR-CALDESC:Évènements pour REEL XV
REFRESH-INTERVAL;VALUE=DURATION:PT1H
X-Robots-Tag:noindex
X-PUBLISHED-TTL:PT1H
BEGIN:VTIMEZONE
TZID:Europe/Paris
BEGIN:DAYLIGHT
TZOFFSETFROM:+0100
TZOFFSETTO:+0200
TZNAME:CEST
DTSTART:20220327T010000
END:DAYLIGHT
BEGIN:STANDARD
TZOFFSETFROM:+0200
TZOFFSETTO:+0100
TZNAME:CET
DTSTART:20221030T010000
END:STANDARD
BEGIN:DAYLIGHT
TZOFFSETFROM:+0100
TZOFFSETTO:+0200
TZNAME:CEST
DTSTART:20230326T010000
END:DAYLIGHT
BEGIN:STANDARD
TZOFFSETFROM:+0200
TZOFFSETTO:+0100
TZNAME:CET
DTSTART:20231029T010000
END:STANDARD
BEGIN:DAYLIGHT
TZOFFSETFROM:+0100
TZOFFSETTO:+0200
TZNAME:CEST
DTSTART:20240331T010000
END:DAYLIGHT
BEGIN:STANDARD
TZOFFSETFROM:+0200
TZOFFSETTO:+0100
TZNAME:CET
DTSTART:20241027T010000
END:STANDARD
BEGIN:DAYLIGHT
TZOFFSETFROM:+0100
TZOFFSETTO:+0200
TZNAME:CEST
DTSTART:20250330T010000
END:DAYLIGHT
BEGIN:STANDARD
TZOFFSETFROM:+0200
TZOFFSETTO:+0100
TZNAME:CET
DTSTART:20251026T010000
END:STANDARD
END:VTIMEZONE
BEGIN:VEVENT
DTSTART;TZID=Europe/Paris:20241013T170000
DTEND;TZID=Europe/Paris:20241013T190000
DTSTAMP:20260422T001918
CREATED:20241010T120913Z
LAST-MODIFIED:20241010T120913Z
UID:19940-1728838800-1728846000@www.reelxv.com
SUMMARY:Match Féminines - Fédérale 1 :  Bron REEL XV - S.O. Chambéry
DESCRIPTION:Les PuncheusesSOC 						\n							13 octobre 2024						\n													\n								25 - 17							\n													\n							-						\n					\n				\n			\n		\n	\n\n\n	Derniers RésultatsÉquipeEssaiTransformationPénalitéDropEss. de pénalité1ère période2éme périodeCarton jauneCarton rougeScoreLes Puncheuses4110015101025SOC310001070017\n\nComposition\nCliquez sur l’image pour la visualiser en pleine page:\n \n\n\nPerformance\nBientôt les stat ici: \n\n\n\nAction\nQui ?\nQuand ?\n\n\nEssai\nA. QUENARD\n6′\n\n\nEssai\nC. FLAMENT\n15′\n\n\nTransformation\nC. CONSTANT\n15′\n\n\nPénalité\nC. CONSTANT\n29′\n\n\nEssai\nL. BRIGAUD\n59′\n\n\nCarton\nNon cité\n65′\n\n\nEssai\nJ. GABRIEL\n72′\n\n\n\n\n\n\nRésumé du match avec https://competitions.ffr.fr/ :\n\n\n	\n		Lieu\n		\n			\n				\n					Pusignan\n				\n			\n							\n					\n								\n	\n			\n					\n											\n							74 Rte de Villette - 69330 PUSIGNAN
URL:https://www.reelxv.com/evenement/match-federales-1-reel-xv-soc/
LOCATION:Stade Pusignan\, 74 Rte de Villette\, Pusignan\, 69330\, France
CATEGORIES:Match
ATTACH;FMTTYPE=image/jpeg:https://www.reelxv.com/wp-content/uploads/2024/10/Calendrier-F2024-25.jpg
END:VEVENT
BEGIN:VEVENT
DTSTART;TZID=Europe/Paris:20241013T133000
DTEND;TZID=Europe/Paris:20241013T190000
DTSTAMP:20260422T001918
CREATED:20241010T120333Z
LAST-MODIFIED:20241010T120509Z
UID:19939-1728826200-1728846000@www.reelxv.com
SUMMARY:Match Seniors - Régionale 1 : REEL XV - BRON
DESCRIPTION:  Derby à la maison pour le Groupe Seniors contre l’E.M.S. Bron & repas d’avant-match \nSuivez les matchs ici :  Equipe Réserve à partir de 13H30  |  Equipe Régionale 1 à partir de 15h00 \n  \n\n\n\n\n–
URL:https://www.reelxv.com/evenement/regionale-1-2024-reelxv-bron/
CATEGORIES:Match
ATTACH;FMTTYPE=image/jpeg:https://www.reelxv.com/wp-content/uploads/2024/10/13Oct2024-1.jpg
END:VEVENT
BEGIN:VEVENT
DTSTART;TZID=Europe/Paris:20241006T133000
DTEND;TZID=Europe/Paris:20241006T160000
DTSTAMP:20260422T001918
CREATED:20240920T075503Z
LAST-MODIFIED:20240920T075608Z
UID:19941-1728221400-1728230400@www.reelxv.com
SUMMARY:Match Féminines - Fédérale 1 (2024-25)  GRANE - Bron REEL XV
DESCRIPTION:AS GraneLes Puncheuses 						\n							6 octobre 2024						\n													\n								11 - 24							\n													\n							-						\n					\n				\n			\n		\n	\n\n\n	Derniers RésultatsÉquipeEssaiTransformationPénalitéDropEss. de pénalité1ère période2éme périodeCarton jauneCarton rougeScoreAS Grane10200560011Les Puncheuses214007170024\nLa compo\n \nDétail du match\ncrédits : Site web FFR\n\n	\n		Lieu\n		\n			\n				\n					Stade Alfred Desbrun - AS Granoise\n				\n			\n							\n					\n								\n	\n			\n					\n											\n							Boissonas\, 26400 Grane
URL:https://www.reelxv.com/evenement/match-feminines-federales-1-grane-reel-xv/
CATEGORIES:Match
ATTACH;FMTTYPE=image/jpeg:https://www.reelxv.com/wp-content/uploads/2024/08/calendrier-2024-25.jpg
END:VEVENT
BEGIN:VEVENT
DTSTART;TZID=Europe/Paris:20240929T133000
DTEND;TZID=Europe/Paris:20240929T173000
DTSTAMP:20260422T001918
CREATED:20240920T064655Z
LAST-MODIFIED:20240920T075254Z
UID:19942-1727616600-1727631000@www.reelxv.com
SUMMARY:Match Seniors - Régionale 1  (2024-25) REEL XV - MONTREVEL
DESCRIPTION:  1er match à domicile de la saison pour le Groupe Seniors contre Montrevel\, ancienne connaissance de la saison dernière. \nSuivez les matchs ici :  Equipe Réserve à partir de 13H30  |  Equipe Régionale 1 à partir de 15h00 \n  \n\n\n\n\n–
URL:https://www.reelxv.com/evenement/match-regionale-24-25-reelxv-montrevel/
LOCATION:Stade Pusignan\, 74 Rte de Villette\, Pusignan\, 69330\, France
CATEGORIES:Match
ATTACH;FMTTYPE=image/png:https://www.reelxv.com/wp-content/uploads/2024/09/2024-25-J3.png
END:VEVENT
BEGIN:VEVENT
DTSTART;TZID=Europe/Paris:20240922T133000
DTEND;TZID=Europe/Paris:20240922T173000
DTSTAMP:20260422T001918
CREATED:20240915T200633Z
LAST-MODIFIED:20240920T075208Z
UID:19057-1727011800-1727026200@www.reelxv.com
SUMMARY:Match Seniors - Régionale 1 (2024-25) CHASSIEU - REEL XV
DESCRIPTION:  Deuxième match de l’année\, à l’extérieur… et c’est un derby\, quoi de mieux pour lancer l’année – A SUIVRE ICI
URL:https://www.reelxv.com/evenement/match-regionale-1-reelxv-col-2-2/
CATEGORIES:Match
ATTACH;FMTTYPE=image/png:https://www.reelxv.com/wp-content/uploads/2024/09/2024-25-J2.png
END:VEVENT
BEGIN:VEVENT
DTSTART;TZID=Europe/Paris:20240915T133000
DTEND;TZID=Europe/Paris:20240915T170000
DTSTAMP:20260422T001918
CREATED:20240920T063503Z
LAST-MODIFIED:20240920T070218Z
UID:19933-1726407000-1726419600@www.reelxv.com
SUMMARY:Match Seniors - Régionale 1(2024-25) S.A.B. - REEL XV
DESCRIPTION:  Premier match de la saison à l’extérieur. Match à suivre sur notre site : \n 
URL:https://www.reelxv.com/evenement/match-seniors-regionale-1-s-a-b-reel-xv/
CATEGORIES:Match
ATTACH;FMTTYPE=image/png:https://www.reelxv.com/wp-content/uploads/2024/09/2024-25-J1.png
END:VEVENT
BEGIN:VEVENT
DTSTART;TZID=Europe/Paris:20240512T160000
DTEND;TZID=Europe/Paris:20240512T180000
DTSTAMP:20260422T001918
CREATED:20240508T214842Z
LAST-MODIFIED:20240920T070138Z
UID:19251-1715529600-1715536800@www.reelxv.com
SUMMARY:Challenge de France - 9ème place : Pays de Thiers - REEL XV
DESCRIPTION:A l’occasion du Challenge de France\, régionale 1\, venez soutenir nos seniors à Thiers\, pour un match contre Pays de Thiers Rugby l ! \n\n\n DIMANCHE 12 MAI\n 16H00\n Stade Antonin Chastel\, Thiers\n\n\n#reelxv #club #senior #challenge #rhone #pusignan #genas #azieu #mai\n\n\nSuivez le match ici : Détails de la rencontre
URL:https://www.reelxv.com/evenement/challenge-de-france-9eme-place-pays-de-thiers-reel-xv/
CATEGORIES:Match
ATTACH;FMTTYPE=image/png:https://www.reelxv.com/wp-content/uploads/2024/05/ptr.png
END:VEVENT
BEGIN:VEVENT
DTSTART;TZID=Europe/Paris:20240428T133000
DTEND;TZID=Europe/Paris:20240428T150000
DTSTAMP:20260422T001918
CREATED:20240401T214734Z
LAST-MODIFIED:20240401T214816Z
UID:19148-1714311000-1714316400@www.reelxv.com
SUMMARY:Match Féminines - Fédérale 1 :  Bron REEL XV - CRIG
DESCRIPTION:Les PuncheusesC.R.I.G. 						\n							1 avril 2024						\n													\n								23h46							\n													\n							Aperçu						\n					\n				\n			\n		\n	\n\n	\n		Lieu\n		\n			\n				\n					Genas Azieu\n				\n			\n							\n					\n								\n	\n			\n					\n											\n							18 Rue du Repos - 69740 Genas\n						\n									\n					\n	\n	\nDernier match de la saison et à domicile pour clôturer cet exercice 2023-24
URL:https://www.reelxv.com/evenement/match-feminines-federale-1-reel-xv-crig/
LOCATION:Stade Azieu\, 18 Rue du Repos\, Genas\, 69740\, France
CATEGORIES:Match
ATTACH;FMTTYPE=image/png:https://www.reelxv.com/wp-content/uploads/2024/02/J14F.png
END:VEVENT
BEGIN:VEVENT
DTSTART;TZID=Europe/Paris:20240414T133000
DTEND;TZID=Europe/Paris:20240414T150000
DTSTAMP:20260422T001918
CREATED:20240401T214231Z
LAST-MODIFIED:20240401T214327Z
UID:19144-1713101400-1713106800@www.reelxv.com
SUMMARY:Match Féminines - Fédérale 1 :  Violettes Bressannes - Bron REEL XV
DESCRIPTION:U.S.B.P.A.Les Puncheuses 						\n							14 avril 2024						\n													\n								3 - 53							\n													\n							-						\n					\n				\n			\n		\n	\n\n\n	Derniers RésultatsÉquipeEssaiTransformationPénalité1ère périodeScoreU.S.B.P.A.——133Les Puncheuses8512053\n \n	\n		Lieu\n		\n			\n				\n					Stade Violettes Bressanes\n				\n			\n							\n					\n								\n	\n			\n					\n											\n							1120 Chem. de la Chagne\, 01000 Bourg-en-Bresse\n						\n									\n					\n	\n	\nDéplacement chez les dernières de la poule pour engranger des points !
URL:https://www.reelxv.com/evenement/match-feminines-federales-1-violettes-reel-xv/
CATEGORIES:Match
ATTACH;FMTTYPE=image/png:https://www.reelxv.com/wp-content/uploads/2024/02/J13F.png
END:VEVENT
BEGIN:VEVENT
DTSTART;TZID=Europe/Paris:20240331T150000
DTEND;TZID=Europe/Paris:20240331T170000
DTSTAMP:20260422T001918
CREATED:20240401T211637Z
LAST-MODIFIED:20240401T213917Z
UID:19131-1711897200-1711904400@www.reelxv.com
SUMMARY:Challenge de France - Seniors
DESCRIPTION: C’est le début du Challenge de France pour les seniors face au Bassin RCHB !\nRendez vous au Stade d’Azieu\, Dimanche 31 Mars à 15h00 pour les soutenirs !  \n DIMANCHE 31 MARS\n 15H00\n Stade d’Azieu\, GENAS
URL:https://www.reelxv.com/evenement/challenge-de-france-seniors/
LOCATION:Stade Azieu\, 18 Rue du Repos\, Genas\, 69740\, France
CATEGORIES:Match
ATTACH;FMTTYPE=image/png:https://www.reelxv.com/wp-content/uploads/2024/04/ChallengeFR20246P.png
END:VEVENT
BEGIN:VEVENT
DTSTART;TZID=Europe/Paris:20240331T150000
DTEND;TZID=Europe/Paris:20240331T170000
DTSTAMP:20260422T001918
CREATED:20240301T140049Z
LAST-MODIFIED:20240302T173112Z
UID:18938-1711897200-1711904400@www.reelxv.com
SUMMARY:Match Féminines - Fédérale 1 :  Bron REEL XV - Olympique Besançon
DESCRIPTION:Les PuncheusesBesançon D.A. 						\n							31 mars 2024						\n													\n								12 - 24							\n													\n							-						\n					\n				\n			\n		\n	\n\n\n	Derniers RésultatsÉquipeEssaiTransformation1ère périodeScoreLes Puncheuses21012Besançon D.A.421224\nComposition \nCliquez sur l’image pour visualiser en pleine page :\n \n	\n		Lieu\n		\n			\n				\n					Bron - Stade Pierre Duboeuf\n				\n			\n							\n					\n								\n	\n			\n					\n											\n							4 Rue Jean Bouin\, 69500 Bron\n						\n									\n					\n	\n	\nAccueil à domicile de l’entente féminines Dôle/Besançon\, pour nos filles !
URL:https://www.reelxv.com/evenement/match-feminines-federale-1-reel-xv-ob/
CATEGORIES:Match
ATTACH;FMTTYPE=image/png:https://www.reelxv.com/wp-content/uploads/2024/02/J12F.png
END:VEVENT
BEGIN:VEVENT
DTSTART;TZID=Europe/Paris:20240324T150000
DTEND;TZID=Europe/Paris:20240324T170000
DTSTAMP:20260422T001918
CREATED:20240302T172401Z
LAST-MODIFIED:20240302T173148Z
UID:18944-1711292400-1711299600@www.reelxv.com
SUMMARY:Match Féminines - Fédérale 1 :  Nancy Seichamps Rugby - Bron REEL XV
DESCRIPTION:N.S.R.Les Puncheuses 						\n							24 mars 2024						\n													\n								19 - 5							\n													\n							-						\n					\n				\n			\n		\n	\n\n\n	Derniers RésultatsÉquipeEssaiTransformation1ère périodeScoreN.S.R.321919Les Puncheuses1—05\n \n	\n		Lieu\n		\n			\n				\n					Nancy Seichamps Rugby\n				\n			\n							\n					\n								\n	\n			\n					\n											\n							2 Rue du Tourmalet\, 54280 Seichamps\n						\n									\n					\n	\n	\nDéplacement en terres connues pour nos Féminines… avec la victoire au bout ! C’est sûr 🙂
URL:https://www.reelxv.com/evenement/match-feminines-federales-1-nsr-reel-xv-2/
CATEGORIES:Match
ATTACH;FMTTYPE=image/png:https://www.reelxv.com/wp-content/uploads/2024/03/J11F.png
END:VEVENT
BEGIN:VEVENT
DTSTART;TZID=Europe/Paris:20240303T133000
DTEND;TZID=Europe/Paris:20240303T170000
DTSTAMP:20260422T001918
CREATED:20240215T131836Z
LAST-MODIFIED:20240215T131903Z
UID:18895-1709472600-1709485200@www.reelxv.com
SUMMARY:Match Seniors - Régionale 1 : REEL XV - COL
DESCRIPTION:  Retour à domicile pour le Groupe Seniors & affronter le COL sur nos terres. \nSuivez les matchs ici :  Equipe Réserve à partir de 13H30  |  Equipe Régionale 1 à partir de 15h00 \n  \n\n\n\n\n–
URL:https://www.reelxv.com/evenement/match-regionale-1-reelxv-col/
CATEGORIES:Match
ATTACH;FMTTYPE=image/png:https://www.reelxv.com/wp-content/uploads/2023/11/J17.png
END:VEVENT
BEGIN:VEVENT
DTSTART;TZID=Europe/Paris:20240225T133000
DTEND;TZID=Europe/Paris:20240225T170000
DTSTAMP:20260422T001918
CREATED:20240215T125134Z
LAST-MODIFIED:20240215T125134Z
UID:18892-1708867800-1708880400@www.reelxv.com
SUMMARY:Match Seniors - Régionale 1 : MONTREVEL - REEL XV
DESCRIPTION:  Le Groupe Seniors se déplace en Bresse pour aller affronter le RC Canton de Montrevel \nSuivez les matchs ici :  Equipe Réserve à partir de 13H30  |  Equipe Régionale 1 à partir de 15h00 \n  \n\n\n\n\n–
URL:https://www.reelxv.com/evenement/match-regionale-1-montrevel-reelxv-2/
CATEGORIES:Match
ATTACH;FMTTYPE=image/png:https://www.reelxv.com/wp-content/uploads/2023/11/J16.png
END:VEVENT
BEGIN:VEVENT
DTSTART;TZID=Europe/Paris:20240218T150000
DTEND;TZID=Europe/Paris:20240218T170000
DTSTAMP:20260422T001918
CREATED:20240215T131525Z
LAST-MODIFIED:20240215T131552Z
UID:18894-1708268400-1708275600@www.reelxv.com
SUMMARY:Match Féminines - Fédérale 1 :  Dijon Bourgogne - Bron REEL XV
DESCRIPTION:RFDBLes Puncheuses 						\n							18 février 2024						\n													\n								15h00							\n													\n							Aperçu						\n					\n				\n			\n		\n	\n\n	\n		Lieu\n		\n			\n				\n					Stade Bourillot - Dijon\n				\n			\n							\n					\n								\n	\n			\n					\n											\n							75 Route de Dijon - 21600 LONGVIC
URL:https://www.reelxv.com/evenement/match-feminines-federales-1-dijon-reel-xv/
CATEGORIES:Match
ATTACH;FMTTYPE=image/png:https://www.reelxv.com/wp-content/uploads/2024/02/J9F.png
END:VEVENT
BEGIN:VEVENT
DTSTART;TZID=Europe/Paris:20240211T150000
DTEND;TZID=Europe/Paris:20240211T170000
DTSTAMP:20260422T001918
CREATED:20240215T131223Z
LAST-MODIFIED:20240215T131330Z
UID:18893-1707663600-1707670800@www.reelxv.com
SUMMARY:Match Féminines - Fédérale 1 :  USON Nevers - Bron REEL XV
DESCRIPTION:USONLes Puncheuses 						\n							11 février 2024						\n													\n								6 - 0							\n													\n							-						\n					\n				\n			\n		\n	\n\n\n	Derniers RésultatsÉquipePénalité1ère périodeScoreUSON266Les Puncheuses—00\n	\n		Lieu\n		\n			\n				\n					Stade du Pré Fleuri - USON Nevers\n				\n			\n							\n					\n								\n	\n			\n					\n											\n							20 Rte de Lyon\, 58000 Sermoise-sur-Loire
URL:https://www.reelxv.com/evenement/match-feminines-federales-1-nevers-reel-xv/
CATEGORIES:Match
ATTACH;FMTTYPE=image/png:https://www.reelxv.com/wp-content/uploads/2024/02/J8F.png
END:VEVENT
BEGIN:VEVENT
DTSTART;TZID=Europe/Paris:20240211T133000
DTEND;TZID=Europe/Paris:20240211T170000
DTSTAMP:20260422T001918
CREATED:20231229T174144Z
LAST-MODIFIED:20240211T144556Z
UID:18320-1707658200-1707670800@www.reelxv.com
SUMMARY:Match Seniors - Régionale 1 : REEL XV - OSGL
DESCRIPTION:  2ème match d’affilé à domicile pour le Groupe Seniors contre l’O.S.G.L. \nSuivez les matchs ici :  Equipe Réserve à partir de 13H30  |  Equipe Régionale 1 à partir de 15h00 \n  \n\n\n\n\n–
URL:https://www.reelxv.com/evenement/match-regionale-1-reelxv-osgl/
LOCATION:Stade Azieu\, 18 Rue du Repos\, Genas\, 69740\, France
CATEGORIES:Match
ATTACH;FMTTYPE=image/png:https://www.reelxv.com/wp-content/uploads/2023/11/J15.png
END:VEVENT
BEGIN:VEVENT
DTSTART;TZID=Europe/Paris:20240204T133000
DTEND;TZID=Europe/Paris:20240204T170000
DTSTAMP:20260422T001918
CREATED:20231229T173656Z
LAST-MODIFIED:20231229T174336Z
UID:18316-1707053400-1707066000@www.reelxv.com
SUMMARY:Match Seniors - Régionale 1 : REEL XV - BRON
DESCRIPTION:  Retour à la maison pour le Groupe Seniors contre l’E.M.S. Bron \nSuivez les matchs ici :  Equipe Réserve à partir de 13H30  |  Equipe Régionale 1 à partir de 15h00 \n  \n\n\n\n\n–
URL:https://www.reelxv.com/evenement/match-regionale-1-reelxv-bron/
LOCATION:Stade Pusignan\, 74 Rte de Villette\, Pusignan\, 69330\, France
CATEGORIES:Match
ATTACH;FMTTYPE=image/png:https://www.reelxv.com/wp-content/uploads/2023/11/J14.png
END:VEVENT
BEGIN:VEVENT
DTSTART;TZID=Europe/Paris:20240121T150000
DTEND;TZID=Europe/Paris:20240121T170000
DTSTAMP:20260422T001918
CREATED:20231213T210506Z
LAST-MODIFIED:20231213T210552Z
UID:17997-1705849200-1705856400@www.reelxv.com
SUMMARY:Match Féminines - Fédérale 1 :  Bron REEL XV - Violettes Bressanes
DESCRIPTION:Les PuncheusesU.S.B.P.A. 						\n							21 janvier 2024						\n													\n								24 - 8							\n													\n							-						\n					\n				\n			\n		\n	\n\n\n	Derniers RésultatsÉquipeEssaiTransformationPénalité1ère périodeScoreLes Puncheuses42—1224U.S.B.P.A.1—138\n \n	\n		Lieu\n		\n			\n				\n					Bron - Stade Pierre Duboeuf\n				\n			\n							\n					\n								\n	\n			\n					\n											\n							4 Rue Jean Bouin\, 69500 Bron
URL:https://www.reelxv.com/evenement/match-feminines-federales-1-reel-xv-violettes/
LOCATION:Stade Pusignan\, 74 Rte de Villette\, Pusignan\, 69330\, France
CATEGORIES:Match
ATTACH;FMTTYPE=image/png:https://www.reelxv.com/wp-content/uploads/2023/11/J6.png
END:VEVENT
BEGIN:VEVENT
DTSTART;TZID=Europe/Paris:20240121T133000
DTEND;TZID=Europe/Paris:20240121T170000
DTSTAMP:20260422T001918
CREATED:20231229T172917Z
LAST-MODIFIED:20231229T172917Z
UID:18315-1705843800-1705856400@www.reelxv.com
SUMMARY:Match Seniors - Régionale 1 : EMD Plaine de l'Ain - REEL XV
DESCRIPTION:  1er match à l’extérieur en 2024\, pour le Groupe Seniors contre E.M.D. Plaine de l’Ain \nSuivez les matchs ici :  Equipe Réserve à partir de 13H30  |  Equipe Régionale 1 à partir de 15h00 \n  \n\n\n\n\n–
URL:https://www.reelxv.com/evenement/match-regionale-1-emd-reelxv/
CATEGORIES:Match
ATTACH;FMTTYPE=image/png:https://www.reelxv.com/wp-content/uploads/2023/11/J13.png
END:VEVENT
BEGIN:VEVENT
DTSTART;TZID=Europe/Paris:20240114T133000
DTEND;TZID=Europe/Paris:20240114T170000
DTSTAMP:20260422T001918
CREATED:20231217T140016Z
LAST-MODIFIED:20231229T173330Z
UID:18227-1705239000-1705251600@www.reelxv.com
SUMMARY:Match Seniors - Régionale 1 : REEL XV -SAB
DESCRIPTION:  Reprise à domicile pour le Groupe Seniors contre le S.A. Bourg-en-Bresse \nSuivez les matchs ici :  Equipe Réserve à partir de 13H30  |  Equipe Régionale 1 à partir de 15h00 \n  \n\n\n\n\n–
URL:https://www.reelxv.com/evenement/match-regionale-1-reelxv-sab-2/
CATEGORIES:Match
ATTACH;FMTTYPE=image/png:https://www.reelxv.com/wp-content/uploads/2023/11/J12.png
END:VEVENT
BEGIN:VEVENT
DTSTART;TZID=Europe/Paris:20231229T000000
DTEND;TZID=Europe/Paris:20231229T000000
DTSTAMP:20260422T001918
CREATED:20231229T174918Z
LAST-MODIFIED:20231229T174918Z
UID:18326-1703808000-1703808000@www.reelxv.com
SUMMARY:Match Seniors - Régionale 1 : Montrevel - REEL XV
DESCRIPTION:Dernier match de Février à l’extérieur pour le Groupe Seniors contre Montrevel. \nSuivez les matchs ici :  Equipe Réserve à partir de 13H30  |  Equipe Régionale 1 à partir de 15h00 \n  \n\n\n\n\n–
URL:https://www.reelxv.com/evenement/match-regionale-1-montrevel-reelxv/
CATEGORIES:Match
ATTACH;FMTTYPE=image/png:https://www.reelxv.com/wp-content/uploads/2023/11/J16.png
END:VEVENT
BEGIN:VEVENT
DTSTART;TZID=Europe/Paris:20231217T133000
DTEND;TZID=Europe/Paris:20231217T170000
DTSTAMP:20260422T001918
CREATED:20231112T125421Z
LAST-MODIFIED:20231217T150811Z
UID:17589-1702819800-1702832400@www.reelxv.com
SUMMARY:Match Seniors - Régionale 1 : RCHB - REEL XV
DESCRIPTION:  Rencontre à l’extérieur pour le Groupe Senior au RC Haute Bresse. \nSuivez les matchs ici :  Equipe Réserve à partir de 13H30  |  Equipe Régionale 1 à partir de 15h00 \n  \n\n\n\n\n–\n\n\n\n\n 
URL:https://www.reelxv.com/evenement/match-regionale-1-rchb-reelxv/
CATEGORIES:Match
ATTACH;FMTTYPE=image/png:https://www.reelxv.com/wp-content/uploads/2023/11/J11.png
END:VEVENT
BEGIN:VEVENT
DTSTART;TZID=Europe/Paris:20231210T150000
DTEND;TZID=Europe/Paris:20231210T170000
DTSTAMP:20260422T001918
CREATED:20231112T124956Z
LAST-MODIFIED:20231217T150834Z
UID:17563-1702220400-1702227600@www.reelxv.com
SUMMARY:Match Seniors - Régionale 1 : REEL XV - ARCOL
DESCRIPTION:REEL XVARCOL 						\n							10 décembre 2023						\n													\n								31 - 20							\n													\n							-						\n					\n				\n			\n		\n	\n\n\n	Derniers RésultatsÉquipeEssaiTransformationPénalité1ère périodeScoreREEL XV53—2631ARCOL2221320\n \n	\n		Lieu\n		\n			\n				\n					Genas Azieu\n				\n			\n							\n					\n								\n	\n			\n					\n											\n							18 Rue du Repos - 69740 Genas
URL:https://www.reelxv.com/evenement/match-regionale-1-reelxv-arcol/
LOCATION:Stade Pusignan\, 74 Rte de Villette\, Pusignan\, 69330\, France
CATEGORIES:Match
ATTACH;FMTTYPE=image/png:https://www.reelxv.com/wp-content/uploads/2023/11/J10.png
END:VEVENT
BEGIN:VEVENT
DTSTART;TZID=Europe/Paris:20231210T133000
DTEND;TZID=Europe/Paris:20231210T150000
DTSTAMP:20260422T001918
CREATED:20231112T130931Z
LAST-MODIFIED:20231217T150828Z
UID:17601-1702215000-1702220400@www.reelxv.com
SUMMARY:Match Seniors - Réserve 1 : REEL XV - ARCOL
DESCRIPTION:REEL XV - BARCOL-B 						\n							10 décembre 2023						\n													\n								25 - 0							\n													\n							-						\n					\n				\n			\n		\n	\n\n\n	Derniers RésultatsÉquipeScoreREEL XV - B25ARCOL-B0\n	\n		Lieu\n		\n			\n				\n					Genas Azieu\n				\n			\n							\n					\n								\n	\n			\n					\n											\n							18 Rue du Repos - 69740 Genas
URL:https://www.reelxv.com/evenement/match-reserve-1-reelxv-arcol/
LOCATION:Stade Pusignan\, 74 Rte de Villette\, Pusignan\, 69330\, France
CATEGORIES:Match
ATTACH;FMTTYPE=image/png:https://www.reelxv.com/wp-content/uploads/2023/11/J10B.png
END:VEVENT
BEGIN:VEVENT
DTSTART;TZID=Europe/Paris:20231203T150000
DTEND;TZID=Europe/Paris:20231203T170000
DTSTAMP:20260422T001918
CREATED:20231112T130024Z
LAST-MODIFIED:20231112T130045Z
UID:17593-1701615600-1701622800@www.reelxv.com
SUMMARY:Match Féminines - Fédérale 1 : Olympique Besançon - Bron REEL XV
DESCRIPTION:Besançon D.A.Les Puncheuses 						\n							3 décembre 2023						\n													\n								29 - 3							\n													\n							-						\n					\n				\n			\n		\n	\n\n\n	Derniers RésultatsÉquipeEssaiTransformationPénalité1ère périodeScoreBesançon D.A.52—1929Les Puncheuses——133\n \n	\n		Lieu\n		\n			\n				\n					Stade Olympique de Besançon Rugby\n				\n			\n							\n					\n								\n	\n			\n					\n											\n							36b Rue Frédéric Chopin\, 25000 Besançon
URL:https://www.reelxv.com/evenement/match-feminines-federales-1-besancon-bron-reel-xv/
CATEGORIES:Match
ATTACH;FMTTYPE=image/png:https://www.reelxv.com/wp-content/uploads/2023/11/J5.png
END:VEVENT
BEGIN:VEVENT
DTSTART;TZID=Europe/Paris:20231203T150000
DTEND;TZID=Europe/Paris:20231203T170000
DTSTAMP:20260422T001918
CREATED:20231112T124127Z
LAST-MODIFIED:20231112T124158Z
UID:17558-1701615600-1701622800@www.reelxv.com
SUMMARY:Match Seniors - Régionale 1 : REEL XV - ROANNE
DESCRIPTION:REEL XVRoanne 						\n							3 décembre 2023						\n													\n								59 - 7							\n													\n							-						\n					\n				\n			\n		\n	\n\n\n	Derniers RésultatsÉquipeEssaiTransformationEss. de pénalité1ère périodeScoreREEL XV8613359Roanne11——7\n \n	\n		Lieu\n		\n			\n				\n					Pusignan\n				\n			\n							\n					\n								\n	\n			\n					\n											\n							74 Rte de Villette - 69330 PUSIGNAN
URL:https://www.reelxv.com/evenement/match-regionale-1-reelxv-roanne/
LOCATION:Stade Pusignan\, 74 Rte de Villette\, Pusignan\, 69330\, France
CATEGORIES:Match
ATTACH;FMTTYPE=image/png:https://www.reelxv.com/wp-content/uploads/2023/10/J9.png
END:VEVENT
BEGIN:VEVENT
DTSTART;TZID=Europe/Paris:20231203T133000
DTEND;TZID=Europe/Paris:20231203T150000
DTSTAMP:20260422T001918
CREATED:20231112T130558Z
LAST-MODIFIED:20231112T130558Z
UID:17597-1701610200-1701615600@www.reelxv.com
SUMMARY:Match Seniors - Réserve : REEL XV - ROANNE
DESCRIPTION:REEL XV - BRoanne - B 						\n							3 décembre 2023						\n													\n								25 - 0							\n													\n							-						\n					\n				\n			\n		\n	\n\n\n	Derniers RésultatsÉquipeScoreREEL XV - B25Roanne - B0\n	\n		Lieu\n		\n			\n				\n					Pusignan\n				\n			\n							\n					\n								\n	\n			\n					\n											\n							74 Rte de Villette - 69330 PUSIGNAN
URL:https://www.reelxv.com/evenement/match-reserve-reelxv-roanne/
LOCATION:Stade Pusignan\, 74 Rte de Villette\, Pusignan\, 69330\, France
CATEGORIES:Match
ATTACH;FMTTYPE=image/png:https://www.reelxv.com/wp-content/uploads/2023/10/J9B.png
END:VEVENT
BEGIN:VEVENT
DTSTART;TZID=Europe/Paris:20231119T150000
DTEND;TZID=Europe/Paris:20231119T170000
DTSTAMP:20260422T001918
CREATED:20231030T105425Z
LAST-MODIFIED:20231030T105425Z
UID:17309-1700406000-1700413200@www.reelxv.com
SUMMARY:Match Seniors - Régionale 1 : COL - REEL XV
DESCRIPTION:COLREEL XV 						\n							19 novembre 2023						\n													\n								22 - 31							\n													\n							-						\n					\n				\n			\n		\n	\n\n\n	Derniers RésultatsÉquipeEssaiTransformationPénalité1ère périodeScoreCOL1151622REEL XV4411431\n \n	\n		Lieu\n		\n			\n				\n					Stade Jean Rougé - Mions\n				\n			\n							\n					\n								\n	\n			\n					\n											\n							32 Rte de Corbas\, 69780 Mions
URL:https://www.reelxv.com/evenement/match-regionale-1-col-reelxv/
CATEGORIES:Match
ATTACH;FMTTYPE=image/png:https://www.reelxv.com/wp-content/uploads/2023/10/J8.png
END:VEVENT
BEGIN:VEVENT
DTSTART;TZID=Europe/Paris:20231119T150000
DTEND;TZID=Europe/Paris:20231119T170000
DTSTAMP:20260422T001918
CREATED:20231030T104158Z
LAST-MODIFIED:20231030T104318Z
UID:17298-1700406000-1700413200@www.reelxv.com
SUMMARY:Match Féminines - Fédérale 1 : Bron REEL XV - NSR
DESCRIPTION:Les PuncheusesN.S.R. 						\n							19 novembre 2023						\n													\n								13 - 21							\n													\n							-						\n					\n				\n			\n		\n	\n\n\n	Derniers RésultatsÉquipeEssaiTransformationPénalitéScoreLes Puncheuses2—113N.S.R.21321\n \n	\n		Lieu\n		\n			\n				\n					Bron - Stade Pierre Duboeuf\n				\n			\n							\n					\n								\n	\n			\n					\n											\n							4 Rue Jean Bouin\, 69500 Bron
URL:https://www.reelxv.com/evenement/match-feminines-federales-1-bron-reel-xv-nsr/
CATEGORIES:Match
ATTACH;FMTTYPE=image/png:https://www.reelxv.com/wp-content/uploads/2023/10/J4.png
END:VEVENT
END:VCALENDAR